BEGIN:VCALENDAR
VERSION:2.0
PRODID:-//Nomasis EN - ECPv6.15.17.1//NONSGML v1.0//EN
CALSCALE:GREGORIAN
METHOD:PUBLISH
X-WR-CALNAME:Nomasis EN
X-ORIGINAL-URL:https://nomasis.ch/en
X-WR-CALDESC:Events for Nomasis EN
REFRESH-INTERVAL;VALUE=DURATION:PT1H
X-Robots-Tag:noindex
X-PUBLISHED-TTL:PT1H
BEGIN:VTIMEZONE
TZID:Europe/Berlin
BEGIN:DAYLIGHT
TZOFFSETFROM:+0100
TZOFFSETTO:+0200
TZNAME:CEST
DTSTART:20220327T010000
END:DAYLIGHT
BEGIN:STANDARD
TZOFFSETFROM:+0200
TZOFFSETTO:+0100
TZNAME:CET
DTSTART:20221030T010000
END:STANDARD
BEGIN:DAYLIGHT
TZOFFSETFROM:+0100
TZOFFSETTO:+0200
TZNAME:CEST
DTSTART:20230326T010000
END:DAYLIGHT
BEGIN:STANDARD
TZOFFSETFROM:+0200
TZOFFSETTO:+0100
TZNAME:CET
DTSTART:20231029T010000
END:STANDARD
BEGIN:DAYLIGHT
TZOFFSETFROM:+0100
TZOFFSETTO:+0200
TZNAME:CEST
DTSTART:20240331T010000
END:DAYLIGHT
BEGIN:STANDARD
TZOFFSETFROM:+0200
TZOFFSETTO:+0100
TZNAME:CET
DTSTART:20241027T010000
END:STANDARD
BEGIN:DAYLIGHT
TZOFFSETFROM:+0100
TZOFFSETTO:+0200
TZNAME:CEST
DTSTART:20250330T010000
END:DAYLIGHT
BEGIN:STANDARD
TZOFFSETFROM:+0200
TZOFFSETTO:+0100
TZNAME:CET
DTSTART:20251026T010000
END:STANDARD
BEGIN:DAYLIGHT
TZOFFSETFROM:+0100
TZOFFSETTO:+0200
TZNAME:CEST
DTSTART:20260329T010000
END:DAYLIGHT
BEGIN:STANDARD
TZOFFSETFROM:+0200
TZOFFSETTO:+0100
TZNAME:CET
DTSTART:20261025T010000
END:STANDARD
END:VTIMEZONE
BEGIN:VEVENT
DTSTART;TZID=Europe/Berlin:20250403T160000
DTEND;TZID=Europe/Berlin:20250403T163000
DTSTAMP:20260421T064547
CREATED:20250224T143032Z
LAST-MODIFIED:20250224T143032Z
UID:3623-1743696000-1743697800@nomasis.ch
SUMMARY:Nomasis Webinar: Protect your company from smishing and CEO fraud
DESCRIPTION:With the increasing use of smartphones and text-based communication\, you are exposed to an increased risk – both in terms of sensitive data and the security of your employees. In our webinar on smishing and CEO fraud\, you will learn how fraudulent text messages target mobile devices and how attackers pose as executives to obtain confidential information or money transfers. \nIn today’s digital world\, where mobile devices are an integral part of our daily work\, smishing attacks have become an increasingly relevant threat. The combination of SMS and phishing\, or smishing for short\, exploits vulnerabilities in communication that often go unnoticed. Attackers are very clever at building trust and tricking you or your colleagues into disclosing sensitive data or performing unwanted actions. At the same time\, the risk of CEO fraud is constantly increasing – a method in which criminals pretend to be company executives in order to obtain financial transactions or confidential information. \nWhat can you expect from the webinar?\n\nFacts and figures: You will gain a comprehensive insight into the current threat situation. Find out why smishing is becoming an increasingly important attack vector and which trends are currently being observed.\nUncovering risks: Learn how smishing and CEO fraud can put your organisation at risk. Our experts present practical examples and explain how such attacks develop and succeed.\nLearn protective measures: Discover effective strategies and techniques for protecting your employees and company data. From simple security measures to complex IT security concepts – you will gain valuable knowledge that you can implement directly in your company.\n\nWhy should you attend?\n\nMake your organisation resilient to social engineering attacks\nLearn from leading experts in mobile security\nGet practical tips that you can implement immediately\n\nSecure your place in our free webinar and take the first step towards strengthening your company’s security. \nRegistration\n\nNote: The webinar will be held in English. \nThis event is not open to students\, independent IT consultants or competitors. Nomasis reserves the right to cancel any registration up to one week before the event. \nYou don’t want to miss any news? Then follow us on LinkedIn! \nAll our events can be found here.
URL:https://nomasis.ch/en/events/nomasis-webinar-protect-your-company-from-smishing-and-ceo-fraud/
CATEGORIES:Webinar
ATTACH;FMTTYPE=image/jpeg:https://nomasis.ch/en/wp-content/uploads/sites/3/2025/02/LinkedIn-Webinar-Smishing-Lookout-EN.jpg
END:VEVENT
BEGIN:VEVENT
DTSTART;VALUE=DATE:20241121
DTEND;VALUE=DATE:20241123
DTSTAMP:20260421T064547
CREATED:20240710T092946Z
LAST-MODIFIED:20240710T092946Z
UID:2949-1732147200-1732319999@nomasis.ch
SUMMARY:Ivanti EPMM Master Class (German)
DESCRIPTION:Ivanti Endpoint Manager Mobile (EPMM) Admin Master Class (2 days)\n\nDate: 21 November – 22 November 2024\nDuration: 2 days\nLocation: FFHS Gleisarena in Zurich\nTime: 08.00 am – 5.00 pm\n\nIn today’s fast-paced business world\, where mobile devices and applications have become indispensable\, every organisation faces the challenge of managing these resources efficiently and securely. This is where Ivanti Endpoint Manager Mobile (EPMM) comes in – a solution that is essential for modern IT departments. \nIvanti EPMM enables organisations to centrally manage and secure all mobile devices\, applications and data. From implementing strict security policies to optimising the user experience\, Ivanti EPMM offers a comprehensive platform that adapts to the needs of both small and large businesses. By automating many administrative tasks and ensuring compliance\, Ivanti EPMM helps increase efficiency while reducing operational costs. \nThis intensive training course offers administrators of all experience levels – both beginners and advanced – the opportunity to gain comprehensive knowledge and practical skills in the use of Ivanti Endpoint Manager Mobile (EPMM). \nWhat to expect:\n\nComprehensive introduction: Ideal for beginners to understand the basic features and user interface of Ivanti EPMM\nIn-depth knowledge: Experienced administrators expand their knowledge with advanced configurations and optimisation techniques\nPractice-orientated exercises: Apply what you have learnt in realistic scenarios and put theory directly into practice\nBest practices: Learn best practices for effective implementation and management of EPMM\nNetworking opportunities: Exchange with other participants\n\nWho should attend:\n\nBeginners: If you are new to the world of Ivanti EPMM\, this masterclass will help you understand and confidently apply the basics.\nAdvanced administrators: Participants with experience in EPMM can deepen their knowledge and learn advanced techniques.\n\nContent\n\nBasics\n\nUnified Endpoint Management (UEM)\nMobile Device Management (MDM)\nMobile Application Management (MAM)\nDevice platform\nCertificates and Single Sign On (SSO)\nAndroid Enterprise / iOS\n\n\nEPMM platform\n\nBasics EPMM\nMobileIron AppConnect für iOS\nEPMM Configuration\nEPMM Administration\nEPMM App Management\nEPMM App for iOS and Android\nEPMM Logs & Reports\nEPMM Features\nMaintenance\nTroubleshooting\n\n\n\nTraining details as PDF \nRegistration
URL:https://nomasis.ch/en/events/ivanti-epmm-master-class-german/
LOCATION:FFHS Gleisarena\, Zollstrasse 17\, Zürich\, 8005
CATEGORIES:Trainings
ATTACH;FMTTYPE=image/jpeg:https://nomasis.ch/en/wp-content/uploads/sites/3/2024/07/Titelbild-Masterclass-1000x667-1.jpg
END:VEVENT
BEGIN:VEVENT
DTSTART;VALUE=DATE:20241121
DTEND;VALUE=DATE:20241123
DTSTAMP:20260421T064547
CREATED:20240703T125516Z
LAST-MODIFIED:20240828T093118Z
UID:2938-1732147200-1732319999@nomasis.ch
SUMMARY:Microsoft Intune Masterclass
DESCRIPTION:Microsoft Intune Masterclass (2 days in German)\nWhether you are a beginner or an advanced user\, our Masterclass will give you the knowledge and skills you need to use Microsoft Intune effectively and master all aspects of mobile device and application management. It offers a perfect mix of theoretical knowledge and practical exercises. \n\nDate: 21 November – 22 November 2024\nDuration: 2 days\nLocation: FFHS Gleisarena in Zurich\nTime: 08.00 am – 5.00 pm\n\nWhat to expect:\n\nComprehensive learning: covers all key aspects of the Microsoft Endpoint Manager platform.\nHands-on training: Hands-on exercises and practical scenarios.\nExperienced trainers: Our experts have extensive experience and in-depth knowledge\nNetworking opportunities: Exchange with other participants\n\nWho should attend?\nThis course is aimed at IT administrators\, system integrators and IT managers who use or would like to use Microsoft Intune in their organisation. Previous knowledge is helpful but not essential. \n\nBeginners: If you are new to the world of Microsoft Intune\, this Master Class will help you understand the basics and use them with confidence.\nAdvanced administrators: Participants with experience with Microsoft Intune can deepen their knowledge and learn advanced techniques.\n\nContent\n\nBasics\n\nUnified Endpoint Management (UEM)\nMobile Device Management (MDM)\nMobile Application Management (MAM)\nDevice platform\nCertificates and Single Sign On (SSO)\nAndroid Enterprise / iOS\n\n\nMicrosoft Endpoint Manager platform\n\nBasics Microsoft Endpoint Manager (Intune)\nMicrosoft Intune configuration\nMicrosoft Intune policies\nMicrosoft Intune configuration profiles\nMicrosoft Intune Conditional Access\nMobile Application Management\nWorking with O365 Apps\nMaintenance\nTroubleshooting\n\n\n\nTraining details as PDF \nRegistration
URL:https://nomasis.ch/en/events/microsoft-intune-master-class/
LOCATION:FFHS Gleisarena\, Zollstrasse 17\, Zürich\, 8005
CATEGORIES:Trainings
ATTACH;FMTTYPE=image/jpeg:https://nomasis.ch/en/wp-content/uploads/sites/3/2024/07/Titelbild-Masterclass-1000x667-1.jpg
END:VEVENT
BEGIN:VEVENT
DTSTART;VALUE=DATE:20240305
DTEND;VALUE=DATE:20240308
DTSTAMP:20260421T064547
CREATED:20230627T111059Z
LAST-MODIFIED:20240219T151357Z
UID:501-1709596800-1709855999@nomasis.ch
SUMMARY:Ivanti Endpoint Manager Mobile (form. MobileIron) Administrators Master Class
DESCRIPTION:Mobile solutions are on everyone’s lips. Hardly any company today can do without mobile applications. This results in many new challenges for your modern IT system landscape. How do you protect the data on mobile devices? And how do you ensure that users are not disturbed in their way of working? After all\, users expect the same user experience from company apps as they do in their private lives. Ivanti offers suitable solutions that you can integrate seamlessly into your current mobility strategy. In this training course\, we will provide you with the necessary knowledge and skills that are required from an administrative perspective for the use of Ivanti. You will gain an insight into the individual products that form part of the Ivanti Suite. \nThis training is characterised in particular by its practical orientation\, in order to provide you with the necessary skills both in theory and in practice. \nThe Ivanti Endpoint Manager Mobile Master Class is suitable for administrators who have little or no experience with the Ivanti infrastructure\, but also for advanced administrators who are already familiar with the Ivanti platform. The 3-day Master Class consists of the following modules: \n\nUnified Endpoint Management (UEM)\nMobile Device Management\nDevice platforms\nMobile Application Management\nEPMM apps for iOS and Android\nCertificates and Kerberos authentication\nIvanti AppConnect for iOS\nAndroid Enterprise\nDelegated Admin\nSystem maintenance\nTroubleshooting\n\nLet our security engineers and Ivanti specialists train you and familiarise you with the extensive features and possibilities of Ivanti. The Master Class is in German. \nDetails to the training (PDF) \n\n  \nRegistration form
URL:https://nomasis.ch/en/events/ivanti-endpoint-manager-mobile-mobileiron-administratoren-master-class/
LOCATION:Nomasis AG\, Spinnereistrasse 12\, Langnau am Albis\, 8135\, Switzerland
CATEGORIES:Trainings
ATTACH;FMTTYPE=image/jpeg:https://nomasis.ch/en/wp-content/uploads/sites/3/2023/08/Webinar-Ivanti-Titelbild.jpg
END:VEVENT
BEGIN:VEVENT
DTSTART;TZID=Europe/Berlin:20231129T163000
DTEND;TZID=Europe/Berlin:20231129T190000
DTSTAMP:20260421T064547
CREATED:20230627T115927Z
LAST-MODIFIED:20230911T123658Z
UID:503-1701275400-1701284400@nomasis.ch
SUMMARY:Afterwork Get2Gether - Bern
DESCRIPTION:Afterwork Get2Gether – Bern\nIhre Stadt\, Ihr Nomasis Afterwork Get2gether\nEndlich! Es ist höchste Zeit\, uns wiedermal persönlich zu treffen! \nWir kommen in Ihre Stadt und laden Sie herzlich ein mit uns anzustossen.\nAuf was? Auf das vergangene Jahr\, auf das kommende Jahr\, auf die Partnerschaft und auf vieles mehr. \nWas erwartet Sie?\nEinen gemütlichen Start in den Feierabend in kleiner Runde\, Beantwortung von brennenden Fragen\, ein Austausch über aktuelle Themen oder ein Gespräch über Gott und die Welt – Sie entscheiden. \nLocation: Lobby Lounge Bar \n  \nAnmeldung für das Get2Gether in Bern\n\n \n \n \n \nWeitere Städte:\n\nZürich – 07.11.2023\nLuzern – 14.11.2023\nBasel – 15.11.2023\nSt. Gallen – 21.11.2023
URL:https://nomasis.ch/en/events/afterwork-get2gether-bern/
LOCATION:Lobby Lounge Bar\, Bahnhofplatz 11\, Bern\, 3001\, Switzerland
CATEGORIES:Events
ATTACH;FMTTYPE=image/jpeg:https://nomasis.ch/en/wp-content/uploads/sites/3/2023/06/BERN-V1-low.jpg
END:VEVENT
BEGIN:VEVENT
DTSTART;TZID=Europe/Berlin:20231121T163000
DTEND;TZID=Europe/Berlin:20231121T190000
DTSTAMP:20260421T064547
CREATED:20230627T121209Z
LAST-MODIFIED:20230627T121209Z
UID:509-1700584200-1700593200@nomasis.ch
SUMMARY:Afterwork Get2Gether - St. Gallen
DESCRIPTION:Afterwork Get2Gether – St. Gallen\nIhre Stadt\, Ihr Nomasis Afterwork Get2gether\nEndlich! Es ist höchste Zeit\, uns wiedermal persönlich zu treffen! \nWir kommen in Ihre Stadt und laden Sie herzlich ein mit uns anzustossen.\nAuf was? Auf das vergangene Jahr\, auf das kommende Jahr\, auf die Partnerschaft und auf vieles mehr. \nWas erwartet Sie?\nEinen gemütlichen Start in den Feierabend in kleiner Runde\, Beantwortung von brennenden Fragen\, ein Austausch über aktuelle Themen oder ein Gespräch über Gott und die Welt – Sie entscheiden. \nLocation: SOHO Switzerland \nAnmeldung für das Get2Gether in St. Gallen\n\nWeitere Städte:\n\nZürich – 07.11.2023\nLuzern – 14.11.2023\nBasel – 15.11.2023\nBern – 29.11.2023
URL:https://nomasis.ch/en/events/afterwork-get2gether-st-gallen/
LOCATION:SOHO Switzerland\, Löwengasse 1\, St. Gallen\, 9000\, Switzerland
CATEGORIES:Events
ATTACH;FMTTYPE=image/jpeg:https://nomasis.ch/en/wp-content/uploads/sites/3/2023/06/ST.GALLEN-V1-low.jpg
END:VEVENT
BEGIN:VEVENT
DTSTART;TZID=Europe/Berlin:20231116T160000
DTEND;TZID=Europe/Berlin:20231116T163000
DTSTAMP:20260421T064547
CREATED:20231009T124819Z
LAST-MODIFIED:20231009T124819Z
UID:1401-1700150400-1700152200@nomasis.ch
SUMMARY:Nomasis Webinar - Maximale Flexibilität für Ihr Team: Arbeiten Sie überall mit Windows 365
DESCRIPTION:Nomasis Webinar – Maximale Flexibilität für Ihr Team: Arbeiten Sie überall mit Windows 365\nNehmen Sie an einem spannenden Webinar über Windows 365 teil\, der innovativen Antwort auf die IT-Herausforderungen von heute. Windows 365 bietet eine sichere und anpassungsfähige Möglichkeit\, aus der Ferne auf Ihre Daten und Anwendungen zuzugreifen. Dabei werden gängige Probleme wie Remote-Arbeitsmanagement\, Geräteverwaltung und Sicherheit effektiv angegangen. Wir bei Nomasis kennen die Feinheiten Ihrer Situation\, und unser Expertenteam wird Sie durch reale Szenarien führen\, in denen Windows 365 einen bedeutenden Einfluss haben kann. \nNehmen Sie an unserem Webinar teil und erfahren Sie\, wie Nomasis Ihr zuverlässiger Partner bei der Nutzung der Funktionen von Windows 365 sein kann\, um Ihre IT-Herausforderungen zu meistern. Reservieren Sie Ihren Platz noch heute! \nLernen Sie in unserem Webinar:\n\nWie Sie Windows 365 in Ihrem Unternehmen nutzen können\nWarum sollten Sie Windows 365 nutzen?\nWelche Vorteile bietet Windows 365 gegenüber anderen Remote-Work-Lösungen?\n\nAnmeldung\n\n \n \n \n \nHinweis: Das Webinar wird in Englisch durchgeführt \nDiese Veranstaltung ist für Studenten\, unabhängige IT-Berater oder Wettbewerber nicht offen. Nomasis behält sich das Recht vor\, jede Anmeldung bis zu einer Woche vor der Veranstaltung zu stornieren.
URL:https://nomasis.ch/en/events/nomasis-webinar-maximale-flexibilitaet-fuer-ihr-team-arbeiten-sie-ueberall-mit-windows-365/
CATEGORIES:Webinar
ATTACH;FMTTYPE=image/jpeg:https://nomasis.ch/en/wp-content/uploads/sites/3/2023/10/Win365-Titelbild.jpg
END:VEVENT
BEGIN:VEVENT
DTSTART;TZID=Europe/Berlin:20231115T163000
DTEND;TZID=Europe/Berlin:20231115T190000
DTSTAMP:20260421T064547
CREATED:20230627T122104Z
LAST-MODIFIED:20230920T120524Z
UID:517-1700065800-1700074800@nomasis.ch
SUMMARY:Afterwork Get2Gether - Basel
DESCRIPTION:Afterwork Get2Gether – Basel\nIhre Stadt\, Ihr Nomasis Afterwork Get2gether\nEndlich! Es ist höchste Zeit\, uns wiedermal persönlich zu treffen! \nWir kommen in Ihre Stadt und laden Sie herzlich ein mit uns anzustossen.\nAuf was? Auf das vergangene Jahr\, auf das kommende Jahr\, auf die Partnerschaft und auf vieles mehr. \nWas erwartet Sie?\nEinen gemütlichen Start in den Feierabend in kleiner Runde\, Beantwortung von brennenden Fragen\, ein Austausch über aktuelle Themen oder ein Gespräch über Gott und die Welt – Sie entscheiden. \nLocation: Werk 8 \nAnmeldung für das Get2Gether in Basel\n\n \n \n \n \nWeitere Städte:\n\nZürich – 07.11.2023\nLuzern – 14.11.2023\nSt. Gallen – 21.11.2023\nBern – 29.11.2023
URL:https://nomasis.ch/en/events/afterwork-get2gether-basel/
LOCATION:Werk 8\, Dornacherstrasse 192\, Basel\, 4053\, Switzerland
CATEGORIES:Events
ATTACH;FMTTYPE=image/jpeg:https://nomasis.ch/en/wp-content/uploads/sites/3/2023/06/BASEL-V1-low.jpg
END:VEVENT
BEGIN:VEVENT
DTSTART;TZID=Europe/Berlin:20231114T163000
DTEND;TZID=Europe/Berlin:20231114T190000
DTSTAMP:20260421T064547
CREATED:20230627T123221Z
LAST-MODIFIED:20231010T143426Z
UID:520-1699979400-1699988400@nomasis.ch
SUMMARY:Afterwork Get2Gether - Luzern
DESCRIPTION:Afterwork Get2Gether – Luzern\nIhre Stadt\, Ihr Nomasis Afterwork Get2gether\nEndlich! Es ist höchste Zeit\, uns wiedermal persönlich zu treffen! \nWir kommen in Ihre Stadt und laden Sie herzlich ein mit uns anzustossen.\nAuf was? Auf das vergangene Jahr\, auf das kommende Jahr\, auf die Partnerschaft und auf vieles mehr. \nWas erwartet Sie?\nEinen gemütlichen Start in den Feierabend in kleiner Runde\, Beantwortung von brennenden Fragen\, ein Austausch über aktuelle Themen oder ein Gespräch über Gott und die Welt – Sie entscheiden. \nLocation: suite – smallplates & cocktails \nAnmeldung für das Get2Gether in Luzern\n\nWeitere Städte:\n\nZürich – 07.11.2023\nBasel – 15.11.2023\nSt. Gallen – 21.11.2023\nBern – 29.11.2023
URL:https://nomasis.ch/en/events/afterwork-get2gether-luzern/
LOCATION:suite – smallplates & cocktails\, Pilatusstrasse 1\, Luzern\, 6003\, Switzerland
CATEGORIES:Events
ATTACH;FMTTYPE=image/jpeg:https://nomasis.ch/en/wp-content/uploads/sites/3/2023/06/LUZERN-V1-low.jpg
END:VEVENT
BEGIN:VEVENT
DTSTART;TZID=Europe/Berlin:20231107T163000
DTEND;TZID=Europe/Berlin:20231107T190000
DTSTAMP:20260421T064547
CREATED:20230629T054343Z
LAST-MODIFIED:20230629T054343Z
UID:526-1699374600-1699383600@nomasis.ch
SUMMARY:Afterwork Get2Gether - Zürich
DESCRIPTION:Afterwork Get2Gether – Zürich\nIhre Stadt\, Ihr Nomasis Afterwork Get2gether\nEndlich! Es ist höchste Zeit\, uns wiedermal persönlich zu treffen! \nWir kommen in Ihre Stadt und laden Sie herzlich ein mit uns anzustossen.\nAuf was? Auf das vergangene Jahr\, auf das kommende Jahr\, auf die Partnerschaft und auf vieles mehr. \nWas erwartet Sie?\nEinen gemütlichen Start in den Feierabend in kleiner Runde\, Beantwortung von brennenden Fragen\, ein Austausch über aktuelle Themen oder ein Gespräch über Gott und die Welt – Sie entscheiden. \nLocation: LOFT FIVE \nAnmeldung für das Get2Gether in Zürich\n\nWeitere Städte:\n\nLuzern – 14.11.2023\nBasel – 15.11.2023\nSt. Gallen – 21.11.2023\nBern – 29.11.2023
URL:https://nomasis.ch/en/events/afterwork-get2gether-zuerich/
LOCATION:LOFT FIVE\, Europaallee 15\, Zürich\, 8004\, Switzerland
CATEGORIES:Events
ATTACH;FMTTYPE=image/jpeg:https://nomasis.ch/en/wp-content/uploads/sites/3/2023/06/ZUeRICH-V1-low.jpg
END:VEVENT
END:VCALENDAR