BEGIN:VCALENDAR
VERSION:2.0
PRODID:-//Nomasis EN - ECPv6.15.17.1//NONSGML v1.0//EN
CALSCALE:GREGORIAN
METHOD:PUBLISH
X-ORIGINAL-URL:https://nomasis.ch/en
X-WR-CALDESC:Events for Nomasis EN
REFRESH-INTERVAL;VALUE=DURATION:PT1H
X-Robots-Tag:noindex
X-PUBLISHED-TTL:PT1H
BEGIN:VTIMEZONE
TZID:Europe/Berlin
BEGIN:DAYLIGHT
TZOFFSETFROM:+0100
TZOFFSETTO:+0200
TZNAME:CEST
DTSTART:20250330T010000
END:DAYLIGHT
BEGIN:STANDARD
TZOFFSETFROM:+0200
TZOFFSETTO:+0100
TZNAME:CET
DTSTART:20251026T010000
END:STANDARD
BEGIN:DAYLIGHT
TZOFFSETFROM:+0100
TZOFFSETTO:+0200
TZNAME:CEST
DTSTART:20260329T010000
END:DAYLIGHT
BEGIN:STANDARD
TZOFFSETFROM:+0200
TZOFFSETTO:+0100
TZNAME:CET
DTSTART:20261025T010000
END:STANDARD
BEGIN:DAYLIGHT
TZOFFSETFROM:+0100
TZOFFSETTO:+0200
TZNAME:CEST
DTSTART:20270328T010000
END:DAYLIGHT
BEGIN:STANDARD
TZOFFSETFROM:+0200
TZOFFSETTO:+0100
TZNAME:CET
DTSTART:20271031T010000
END:STANDARD
END:VTIMEZONE
BEGIN:VEVENT
DTSTART;TZID=Europe/Berlin:20260417T160000
DTEND;TZID=Europe/Berlin:20260417T210000
DTSTAMP:20260420T231826
CREATED:20250613T061351Z
LAST-MODIFIED:20260206T094649Z
UID:3751-1776441600-1776459600@nomasis.ch
SUMMARY:Nomasis Pizza Event 2026
DESCRIPTION:Buonissimo! On Friday\, 17 April 2026\, from 4 p.m.\, our office in Langnau am Albis will once again be transformed into a small Italian piazza – because that’s when our popular Nomasis Pizza Event will take place. \nThe highlight: our pizzaiolo will be on hand to help you create your own pizza – just the way you like it! Whether classic with mozzarella and basil or fancy with your favourite ingredients. \nDon’t miss this special evening and reserve your spot now. Learn how to make an authentic Italian pizza\, discover the secrets of our pizza chef and spend an enjoyable evening with the Nomasis team\, our partners and customers. The evening is open to everyone – friends\, acquaintances and anyone interested are welcome. \nThe Nomasis Pizza Event 2026 offers you more than just good food – it’s an evening full of inspiration\, enjoyment and encounters. Whether you come alone or bring several people with you – we look forward to seeing you! \nWhether you are a long-standing customer\, a new contact\, a friend or a family member: you are very welcome! If you don’t want to come alone\, please let us know when you register how many people will be accompanying you – this will help us to plan better. \nWe look forward to seeing you – and to lots of creative\, delicious pizza creations straight from the oven! \nRegistration form\n\n\n                \n                        \n                             \n							"*" indicates required fields \n                        \n                        EmailThis field is for validation purposes and should be left unchanged.Company*Name*\n                            \n                            \n                                                    \n                                                    First name\n                                                \n                            \n                            \n                                                    \n                                                    Last name\n                                                \n                            \n                        Email*\n                            \n                        Register additional persons\n\n\nIn order to plan the event according to the number of participants\, we kindly ask you to inform us of additional companions here. Number of additional persons*0123Additional participant 1 (first & last name)Additional participant 2 (first & last name)Additional participant 3 (first & last name)CAPTCHA
URL:https://nomasis.ch/en/events/nomasis-pizza-event-2026/
LOCATION:Nomasis AG\, Spinnereistrasse 12\, Langnau am Albis\, 8135\, Switzerland
CATEGORIES:Events
ATTACH;FMTTYPE=image/jpeg:https://nomasis.ch/en/wp-content/uploads/sites/3/2023/06/Pizza-Event-24-low.jpg
END:VEVENT
BEGIN:VEVENT
DTSTART;TZID=Europe/Berlin:20260625T140000
DTEND;TZID=Europe/Berlin:20260625T170000
DTSTAMP:20260420T231826
CREATED:20260406T070712Z
LAST-MODIFIED:20260406T070712Z
UID:4090-1782396000-1782406800@nomasis.ch
SUMMARY:Nomasis Cyber Security Event 2026
DESCRIPTION:Cyber Security Event 2026 – Rethinking Security\n\nDate: Thursday\, 25. June 2026\nLocation: Hiltl Akademie\, Sihlstrasse 24\, 8001 Zürich\nTime: 2.00 pm – 5.00 pm\n\nCyber security has long been a key management priority. Rising regulatory requirements\, increasing attack intensity and advancing digitalisation demand robust\, scalable security strategies. \nThe Nomasis Cyber Security Event focuses on the crucial questions facing modern organisations: How can security architectures be developed sustainably? Which models enable operational excellence whilst complexity increases? And how can the balance between protection\, efficiency and innovation be achieved? \nKey topics include: \n\nHolistic security strategies and current threat landscapes\nModern authentication and zero-trust approaches using hardware-based security solutions\nSecure mobile working environments and their integration into existing security architectures\nMobile SOC as the next stage in the evolution of security operations\n\nSpeakers will include Arctic Wolf\, Yubico and Hypergate\, who will share their insights and best practices from real-world projects. \nThe detailed agenda is currently being finalised. However\, you can expect a concise\, high-quality programme with clear relevance for strategic and operational decisions. \nThe drinks reception afterwards offers an opportunity for personal discussion on equal terms. \nImportant: The event will take place in German! \nRegistration\n\n                \n                        \n                             \n                        \n                        Company(Required)Name(Required)\n                            \n                            \n                                                    \n                                                    First\n                                                \n                            \n                            \n                                                    \n                                                    Last\n                                                \n                            \n                        Job title(Required)E-Mail(Required)\n                            \n                        CAPTCHA\n          \n            \n            \n            \n            \n            \n            \n            \n            \n            \n            \n            \n            \n            \n        \n                        \n                        \n\nNomasis reserves the right to cancel any booking up to one week before the event. \nDon’t want to miss any more news? Then follow us on LinkedIn!\nYou can find all our events here.
URL:https://nomasis.ch/en/events/nomasis-cyber-security-event-2026/
LOCATION:Hiltl Akademie\, Sihlstrasse 24\, Zürich\, 8001\, Switzerland
CATEGORIES:Events
ATTACH;FMTTYPE=image/png:https://nomasis.ch/en/wp-content/uploads/sites/3/2026/04/Cyber-Security-Event-small.png
END:VEVENT
END:VCALENDAR