BEGIN:VCALENDAR
VERSION:2.0
PRODID:-//Nomasis EN - ECPv6.15.17.1//NONSGML v1.0//EN
CALSCALE:GREGORIAN
METHOD:PUBLISH
X-WR-CALNAME:Nomasis EN
X-ORIGINAL-URL:https://nomasis.ch/en
X-WR-CALDESC:Events for Nomasis EN
REFRESH-INTERVAL;VALUE=DURATION:PT1H
X-Robots-Tag:noindex
X-PUBLISHED-TTL:PT1H
BEGIN:VTIMEZONE
TZID:Europe/Berlin
BEGIN:DAYLIGHT
TZOFFSETFROM:+0100
TZOFFSETTO:+0200
TZNAME:CEST
DTSTART:20240331T010000
END:DAYLIGHT
BEGIN:STANDARD
TZOFFSETFROM:+0200
TZOFFSETTO:+0100
TZNAME:CET
DTSTART:20241027T010000
END:STANDARD
BEGIN:DAYLIGHT
TZOFFSETFROM:+0100
TZOFFSETTO:+0200
TZNAME:CEST
DTSTART:20250330T010000
END:DAYLIGHT
BEGIN:STANDARD
TZOFFSETFROM:+0200
TZOFFSETTO:+0100
TZNAME:CET
DTSTART:20251026T010000
END:STANDARD
BEGIN:DAYLIGHT
TZOFFSETFROM:+0100
TZOFFSETTO:+0200
TZNAME:CEST
DTSTART:20260329T010000
END:DAYLIGHT
BEGIN:STANDARD
TZOFFSETFROM:+0200
TZOFFSETTO:+0100
TZNAME:CET
DTSTART:20261025T010000
END:STANDARD
END:VTIMEZONE
BEGIN:VEVENT
DTSTART;TZID=Europe/Berlin:20251113T143000
DTEND;TZID=Europe/Berlin:20251113T180000
DTSTAMP:20260421T032447
CREATED:20250703T133344Z
LAST-MODIFIED:20251017T142936Z
UID:3795-1763044200-1763056800@nomasis.ch
SUMMARY:Nomasis Innovation Event 2025 in Zurich
DESCRIPTION:Dive into the world of innovation with us\n\nDate: Thursday\, 13 November 2025\nLocation: The square – new mobility hub\, The Circle 39\, 8058 Zurich\nTime: 14.30 – 18.00 hrs\n\nCyber security and mobility are becoming increasingly important in companies and open up enormous opportunities for competitive and business advantages. In view of rapid technological developments and increasing threats\, it is more important than ever to stay up to date and develop future-oriented strategies. Our event offers a unique opportunity to exchange ideas on current trends\, innovative technologies and best practices in these exciting areas. Look forward to inspiring presentations\, practical insights and valuable networking opportunities with experts and like-minded people from the industry. \nThe first topics have been defined – and we are already working on more exciting programme items!\n \n\nApple Update: News from the Apple Ecosystem & OS 26: Find out what the new Apple OS26 has in store for businesses. In addition to improved security features and new management options\, the update also brings a real highlight: You can now easily switch your MDM solution without resetting your device – quickly\, flexibly\, and securely.\nMobile cyber threats in transition – when people become the risk: With BYOD and mobile working practices\, people are becoming the focus of attacks. Instead of relying solely on technical vulnerabilities\, cybercriminals are using social engineering to steal access data and compromise company resources. Find out why human behavior is now the biggest security challenge – and what strategies companies can develop to counter it.\nFrom passwords to passkeys in just one week – reality for companies: Make your company passwordless and phishing-resistant in one week! YubiKeys and FIDO pre-registration enable fast\, secure access to Windows and M365 without a password. The Yubico rollout approach simplifies the introduction of passkeys for companies.\nInsights into Microsoft & modern IT infrastructure: Learn how the latest Microsoft technologies are helping companies rethink security\, productivity\, and flexibility.\nLive insights into the world of hacking: In this presentation\, our security expert demonstrates authentic attack scenarios: from targeted phishing emails and attacks with QR codes to fake apps that misuse permissions and data.\nMulti-admin approval – security through double checks in Intune: One wrong click can have a big impact. With the new dual control principle in Intune\, this is a thing of the past. Critical actions such as device wipes\, app deployments\, or role changes must now be approved by a second administrator. This makes your endpoint management more secure\, transparent\, and easier to control.\n\nSecure your place now and mark the date in your calendar! \nRegistration\n\n\n                \n                        \n                             \n                        \n                        Firma(Required)Name(Required)\n                            \n                            \n                                                    \n                                                    First\n                                                \n                            \n                            \n                                                    \n                                                    Last\n                                                \n                            \n                        Funktion(Required)E-Mail(Required)\n                            \n                        \n          \n            \n            \n            \n            \n            \n            \n            \n            \n            \n            \n            \n            \n            \n        \n                        \n                        \n\nPlease note that the number of participants is limited. In addition\, this event is not open to students\, independent IT consultants or competitors. Nomasis reserves the right to cancel any registration up to one week before the event.
URL:https://nomasis.ch/en/events/nomasis-innovation-event-2025-in-zurich/
LOCATION:the square – new mobility hub\, The Circle 39\, Zürich\, 8058
CATEGORIES:Events
ATTACH;FMTTYPE=image/jpeg:https://nomasis.ch/en/wp-content/uploads/sites/3/2024/06/Titelbild-Webpage-1000x667-1.jpg
END:VEVENT
BEGIN:VEVENT
DTSTART;TZID=Europe/Berlin:20251120T160000
DTEND;TZID=Europe/Berlin:20251120T164500
DTSTAMP:20260421T032447
CREATED:20251010T103018Z
LAST-MODIFIED:20251010T121200Z
UID:3852-1763654400-1763657100@nomasis.ch
SUMMARY:Nomasis Webinar: TechTalk – Phishing-Resistant Digital Identity
DESCRIPTION:Strengthen your company’s digital identity with phishing-resistant multi-factor authentication!\nThe threat landscape in cyberspace is constantly growing. Traditional passwords and simple MFA methods are no longer sufficient to reliably protect users and organizations from phishing attacks. Phishing-resistant multi-factor authentication is the new standard for securely protecting digital identities and leaving attackers no chance. \nIn our TechTalk\, experts from Yubico\, Pointsharp\, and Nomasis will show you how modern\, phishing-resistant multi-factor authentication works—and how you can successfully implement it in your IT environment. \nWhat you can expect from the webinar:\n\nCurrent risks & digital identity: Why action must be taken now\nPhishing-resistant MFA with YubiKeys: How to effectively protect yourself against modern attacks\nSecure lifecycle management: Easy identity management with Pointsharp\nThe joint solution from Yubico & Pointsharp: Practical example of consistent\, secure authentication\nSummary and Q&A: Ask your questions directly to the experts\n\nYour benefits:\n\nUnderstand why classic MFA is no longer sufficient\nLearn about the solution with YubikKeys and Pointsharp\nGet tips for easy integration into your IT environment\nTake the opportunity to ask your questions live\n\nRegister now and learn how phishing-resistant multi-factor authentication can future-proof your business. \nSecure your place in the webinar and protect your digital identity – sustainably and effectively. \nRegistration\n\nStay informed via our news portal or follow us on LinkedIn for updates.
URL:https://nomasis.ch/en/events/nomasis-webinar-techtalk-phishing-resistant-digital-identity/
CATEGORIES:Webinar
ATTACH;FMTTYPE=image/png:https://nomasis.ch/en/wp-content/uploads/sites/3/2025/10/Digital-Identity.png
END:VEVENT
END:VCALENDAR