BEGIN:VCALENDAR
VERSION:2.0
PRODID:-//Nomasis EN - ECPv6.15.17.1//NONSGML v1.0//EN
CALSCALE:GREGORIAN
METHOD:PUBLISH
X-WR-CALNAME:Nomasis EN
X-ORIGINAL-URL:https://nomasis.ch/en
X-WR-CALDESC:Events for Nomasis EN
REFRESH-INTERVAL;VALUE=DURATION:PT1H
X-Robots-Tag:noindex
X-PUBLISHED-TTL:PT1H
BEGIN:VTIMEZONE
TZID:Europe/Berlin
BEGIN:DAYLIGHT
TZOFFSETFROM:+0100
TZOFFSETTO:+0200
TZNAME:CEST
DTSTART:20250330T010000
END:DAYLIGHT
BEGIN:STANDARD
TZOFFSETFROM:+0200
TZOFFSETTO:+0100
TZNAME:CET
DTSTART:20251026T010000
END:STANDARD
BEGIN:DAYLIGHT
TZOFFSETFROM:+0100
TZOFFSETTO:+0200
TZNAME:CEST
DTSTART:20260329T010000
END:DAYLIGHT
BEGIN:STANDARD
TZOFFSETFROM:+0200
TZOFFSETTO:+0100
TZNAME:CET
DTSTART:20261025T010000
END:STANDARD
BEGIN:DAYLIGHT
TZOFFSETFROM:+0100
TZOFFSETTO:+0200
TZNAME:CEST
DTSTART:20270328T010000
END:DAYLIGHT
BEGIN:STANDARD
TZOFFSETFROM:+0200
TZOFFSETTO:+0100
TZNAME:CET
DTSTART:20271031T010000
END:STANDARD
END:VTIMEZONE
BEGIN:VEVENT
DTSTART;TZID=Europe/Berlin:20260319T081500
DTEND;TZID=Europe/Berlin:20260319T120000
DTSTAMP:20260421T071709
CREATED:20250613T121001Z
LAST-MODIFIED:20260123T124002Z
UID:3765-1773908100-1773921600@nomasis.ch
SUMMARY:Nomasis Business Breakfast 2026
DESCRIPTION:Business Breakfast\n\nDate: Thursday\, March 19\, 2026\nLocation: TIME Lounge\, Bahnhofplatz 15\, 8001 Zurich\nTime: 8:15 a.m. – 12:00 p.m.\n\nWe can’t wait to see you at the Nomasis Business Breakfast in 2026 – our popular breakfast event in the heart of Zurich. You can look forward to an exciting mix of expert talks\, chats with industry insiders and a delicious breakfast in a relaxed atmosphere. \nAs every year\, the focus will be on current topics relating to modern IT security\, technology and practical solutions – practical\, relevant and to the point. We will announce the specific topics and speakers at a later date. \nOur topics for 2026\n\nMobile Mobility Services (MMS): strategies and services for the modern mobile workplace\nApp Lifecycle Management: from development and operation to secure replacement\nMobile SOC & Mobile Threat Defence: protection against current mobile threats\nHelpdesk\, MDM & Automation: efficient processes\, intelligent automation and best practice\n\nAgenda overview\n\n08:15 – 08:45: Welcome and breakfast buffet\n08:45 – 09:45: Presentation block 1\n09:45 – 10:15: Break and networking\n10:15 – 11:15: Presentation block 2\n11:15 – end: Questions\, discussions and exchange of experiences\n\nTake advantage of this unique opportunity to:\n\nGain insights into the latest developments in mobile security\nExchange ideas with industry experts and decision-makers\nDiscover practical solutions for your specific challenges\nExpand your professional network\n\nRegister now\n\n\n                \n                        \n                             \n                        \n                        Company(Required)Name(Required)\n                            \n                            \n                                                    \n                                                    First\n                                                \n                            \n                            \n                                                    \n                                                    Last\n                                                \n                            \n                        Job title(Required)E-Mail(Required)\n                            \n                        CAPTCHA\n          \n            \n            \n            \n            \n            \n            \n            \n            \n            \n            \n            \n            \n            \n        \n                        \n                        \n\nLanguage of the Event is German \nPlease note that the number of participants is limited. If the event is overbooked\, an additional date will be organized at short notice. \nNomasis reserves the right to cancel any registration up to one week before the event. \nYou don’t want to miss any news? Then follow us on LinkedIn!\nAll our events can be found here.
URL:https://nomasis.ch/en/events/nomasis-business-breakfast-2026/
LOCATION:TIME Lounge\, Bahnhofplatz 15\, Zürich\, 8001\, Switzerland
CATEGORIES:Events
ATTACH;FMTTYPE=image/jpeg:https://nomasis.ch/en/wp-content/uploads/sites/3/2023/10/Titelbild-Business-Breakfast.jpg
END:VEVENT
END:VCALENDAR