BEGIN:VCALENDAR
VERSION:2.0
PRODID:-//Nomasis - ECPv4.6.19//NONSGML v1.0//EN
CALSCALE:GREGORIAN
METHOD:PUBLISH
X-ORIGINAL-URL:https://nomasis.ch
X-WR-CALDESC:Veranstaltungen für Nomasis
BEGIN:VEVENT
DTSTART;TZID=Europe/Paris:20180705T163000
DTEND;TZID=Europe/Paris:20180705T170000
DTSTAMP:20180623T205700
CREATED:20180529T123219Z
LAST-MODIFIED:20180529T123221Z
UID:5030-1530808200-1530810000@nomasis.ch
SUMMARY:Nomasis Webinar: Phishing & Content Protection (Präsentiert von Lookout)
DESCRIPTION:Auf Mobilgeräten ist Phishing besonders problematisch: Um Daten heute vor Manipulation zu schützen\, muss verhindert werden\, dass Mitarbeiter präparierte URLs antippen\, die sich in Apps\, SMS\, Messaging-Plattformen sowie geschäftlichen und privaten E-Mails verbergen. Phishing auf Mobilgeräten ist auf den ersten Blick nur sehr schwer zu erkennen. Die von den Phishing-Angreifern erstellten Oberflächen wirken täuschend echt und gleichen ihren seriösen Pendants bis ins Detail\, deshalb stellt Phishing auf Mobilgeräten ein solch großes Risiko für Unternehmen dar. \nSpeaker: David Frances\, ‎Senior Product Manager at Lookout \n[vc_row][vc_column][mk_button dimension=“flat“ corner_style=“rounded“ size=“large“ url=“https://nomasis.webex.com/mw3300/mywebex/default.do?service=1&siteurl=nomasis&nomenu=true&main_url=%2Fmc3300%2Fe.do%3Fsiteurl%3Dnomasis%26AT%3DMI%26EventID%3D668091007%26UID%3D6397064177%26Host%3DQUhTSwAAAAQOPWJS69BasF7CsGwueI9r4vf2rIdLQu8ztBkLk_u8XvHj0nObBBupI7nqK9KzHuphTJQRyNJbpD41qFqTxgpb0%26RG%3D1%26FrameSet%3D2%26RGID%3Drc4df466a9cb569d92b6a250a05809936″ target=“_blank“ nofollow=“true“]Anmeldung[/mk_button][/vc_column][/vc_row]\n
URL:https://nomasis.ch/event/nomasis-webinar-phishing-content-protection-praesentiert-von-lookout/
CATEGORIES:Webinar
ATTACH;FMTTYPE=image/jpeg:https://nomasis.ch/wp-content/uploads/2018/05/80495976_l.jpg
END:VEVENT
BEGIN:VEVENT
DTSTART;TZID=Europe/Paris:20180906T151500
DTEND;TZID=Europe/Paris:20180906T200000
DTSTAMP:20180623T205700
CREATED:20180511T131228Z
LAST-MODIFIED:20180619T091427Z
UID:4915-1536246900-1536264000@nomasis.ch
SUMMARY:Nomasis Innovation Event 2018
DESCRIPTION:Den 6. September 2018 (Outlook-Kalendereintrag) sollten Sie sich reservieren\, wenn Sie die mobile Strategie Ihres Unternehmens an die ständig steigenden Sicherheitsanforderungen anpassen wollen.\nAm besten melden Sie sich noch heute hier an: \n[vc_row][vc_column][mk_button dimension=“flat“ corner_style=“rounded“ size=“large“ url=“https://nomasis.ch/anmeldung-nomasis-innovation-event-2018/“ target=“_blank“ nofollow=“true“]Anmeldung[/mk_button][/vc_column][/vc_row]\nMobile Security gehört zu den wichtigsten Themen für Unternehmen. Auch dieses Jahr lädt Nomasis zum Innovation Event nach Zürich ein. In einem kompakten\, zweistündigen Programm bringen wir Sie auf den neusten Stand der Technik und zeigen Ihnen aktuelle Markttrends im Bereich Enterprise Mobility. Nationale und internationale Partner stellen innovative Unternehmenslösungen und Neuheiten vor. \nDie Veranstaltung findet statt im Hotel Four Points by Sheraton\, Sihlcity Zürich und beginnt um 15.30 Uhr. Ausklang findet der Anlass mit einem Get-together und einem Apéro riche um ca. 18.00 Uhr. \nWir freuen uns sehr Sie am «Nomasis Innovation Event 2018» begrüssen zu dürfen. \n
URL:https://nomasis.ch/event/nomasis-innovation-event-2018/
LOCATION:Kalandergasse 1\, Zürich\, 8045\, Schweiz
GEO:47.359155;8.5231415
X-APPLE-STRUCTURED-LOCATION;VALUE=URI;X-ADDRESS=Kalandergasse 1 Zürich 8045 Schweiz;X-APPLE-RADIUS=500;X-TITLE=Kalandergasse 1:geo:8.5231415,47.359155
CATEGORIES:Events
ATTACH;FMTTYPE=image/jpeg:https://nomasis.ch/wp-content/uploads/2017/04/innovation-2016.jpg
END:VEVENT
END:VCALENDAR